Workbook

Sheet Budget to Actual Form
A1: Please note: This form is not to be changed
A2: CHILDREN'S BOARD OF HILLSBOROUGH COUNTY (CBHC)
A3: PROGRAM BUDGET TO ACTUAL REPORT (DUE QUARTERLY)
A4: QUARTERLY REPORTING PERIOD IN CURRENT YEAR CONTRACT : | O4: SELECT REPORTING QUARTER | S4: =IF(O4='Budget to Actual Instructions'!A44, "<---Don't leave blank. Select from dropdown","") -> <---Don't leave blank. Select from dropdown
A6: Agency: | N6: Date Submitted:
A7: Program: | N7: Prepared by:
N8: For the Period of: | S8: {=_xlfn.IFS(O4='Budget to Actual Instructions'!A44,'Budget to Actual Instructions'!B44, 'Budget to Actual Form'!O4='Budget to Actual Instructions'!A45,'Budget to Actual Instructions'!B45,'Budget to Actual Form'!O4='Budget to Actual Instructions'!A46,'Budget to Actual Instructions'!B46,O4='Budget to Actual Instructions'!A47,'Budget to Actual Instructions'!B47,'Budget to Actual Form'!O4='Budget to Actual Instructions'!A48,'Budget to Actual Instructions'!B48)} -> (SELECT QUARTER)
A10: Total Program Budget: | C10: =IF(TRIM(B10)<>"","","<-- Don't leave blank") -> <-- Don't leave blank | D10: Total CBHC Budget: | I10: =IF(TRIM(G10)<>"","","<-- Don't leave blank") -> <-- Don't leave blank
E13: TOTAL | G13: YTD | I13: YTD | K13: YTD $$ | M13: YTD % | O13: TOTAL | Q13: YTD | S13: ACTUAL | U13: YTD $$ | W13: YTD %
E14: BUDGET | G14: BUDGET | I14: ACTUAL | K14: PROGRAM | M14: PROGRAM | O14: CBHC | Q14: CBHC | S14: CBHC | U14: CBHC | W14: CBHC
E15: PROGRAM | G15: PROGRAM | I15: PROGRAM | K15: VARIANCE | M15: VARIANCE | O15: BUDGET | Q15: BUDGET | S15: REQUESTS | U15: VARIANCE | W15: VARIANCE
E16: (Column 1) | G16: (Column 2) | I16: (Column 3) | K16: (Column 4) | M16: (Column 5) | O16: (Column 6) | Q16: (Column 7) | S16: (Column 8) | U16: (Column 9) | W16: (Column 10)
A17: REVENUES:
A18: Children's Board | E18: =G10 -> 0 | G18: {=_xlfn.IFS($G$10="","",'Budget to Actual Form'!$O$4='Budget to Actual Instructions'!$A$45,'Budget to Actual Form'!E$18*(25%),'Budget to Actual Form'!$O$4='Budget to Actual Instructions'!$A$46,'Budget to Actual Form'!$E$18*(50%),'Budget to Actual Form'!O$4='Budget to Actual Instructions'!$A$47,'Budget to Actual Form'!$E$18*(75%),$O$4='Budget to Actual Instructions'!$A$48,'Budget to Actual Form'!$E$18*(100%))} | I18: =S18 -> 0 | K18: =IFERROR(-(G18-I18),"") | M18: =IF(G18="","-",ROUND(K18/G18,2)) -> - | O18: =G10 -> 0 | Q18: {=_xlfn.IFS($G$10="","",'Budget to Actual Form'!$O$4='Budget to Actual Instructions'!$A$45,'Budget to Actual Form'!O$18*(25%),'Budget to Actual Form'!$O$4='Budget to Actual Instructions'!$A$46,'Budget to Actual Form'!$G$10*(50%),$O$4='Budget to Actual Instructions'!$A$47,'Budget to Actual Form'!$G$10*(75%),$O$4='Budget to Actual Instructions'!$A$48,'Budget to Actual Form'!$G$10*(100%))} | U18: =IFERROR(-(Q18-S18),"") | W18: =IFERROR(IF(Q18="","-",ROUND(U18/Q18,2)),"") -> -
K19: =-(G19-I19) -> 0 | M19: =IF(G19="","-",ROUND(K19/G19,2)) -> -
K20: =-(G20-I20) -> 0 | M20: =IF(G20="","-",ROUND(K20/G20,2)) -> -
K21: =-(G21-I21) -> 0 | M21: =IF(G21="","-",ROUND(K21/G21,2)) -> -
K22: =-(G22-I22) -> 0 | M22: =IF(G22="","-",ROUND(K22/G22,2)) -> -
K23: =-(G23-I23) -> 0 | M23: =IF(G23="","-",ROUND(K23/G23,2)) -> -
K24: =-(G24-I24) -> 0 | M24: =IF(G24="","-",ROUND(K24/G24,2)) -> -
K25: =-(G25-I25) -> 0 | M25: =IF(G25="","-",ROUND(K25/G25,2)) -> -
K26: =-(G26-I26) -> 0 | M26: =IF(G26="","-",ROUND(K26/G26,2)) -> -
K27: =-(G27-I27) -> 0 | M27: =IF(G27="","-",ROUND(K27/G27,2)) -> -
A29: TOTAL REVENUE | E29: =SUM(E18:E27) -> 0 | G29: =SUM(G18:G27) -> 0 | I29: =SUM(I18:I27) -> 0 | K29: =SUM(K18:K27) -> 0 | M29: =IF(G29=0,"-",ROUND(K29/G29,2)) -> - | O29: =SUM(O18:O27) -> 0 | Q29: =SUM(Q18:Q27) -> 0 | S29: =SUM(S18:S27) -> 0 | U29: =SUM(U18:U27) -> 0 | W29: =IF(Q29=0,"-",ROUND(U29/Q29,2)) -> -
A31: EXPENDITURES:
A32: PERSONNEL SERVICES
A33: Salaries | G33: {=_xlfn.IFS(E33="","",'Budget to Actual Form'!$O$4='Budget to Actual Instructions'!$A$45,'Budget to Actual Form'!E33*(25%),'Budget to Actual Form'!$O$4='Budget to Actual Instructions'!$A$46,'Budget to Actual Form'!E33*(50%),'Budget to Actual Form'!$O$4='Budget to Actual Instructions'!$A$47,'Budget to Actual Form'!E33*(75%),'Budget to Actual Form'!$O$4='Budget to Actual Instructions'!$A$48,'Budget to Actual Form'!E33*(100%))} | K33: =IFERROR(G33-I33,"") | M33: =IFERROR(IF(G33="","-",ROUND(K33/G33,2)),"") -> - | Q33: {=_xlfn.IFS(O33="","",'Budget to Actual Form'!$O$4='Budget to Actual Instructions'!$A$45,'Budget to Actual Form'!O33*(25%),'Budget to Actual Form'!$O$4='Budget to Actual Instructions'!$A$46,'Budget to Actual Form'!O33*(50%),'Budget to Actual Form'!$O$4='Budget to Actual Instructions'!$A$47,'Budget to Actual Form'!O33*(75%),'Budget to Actual Form'!$O$4='Budget to Actual Instructions'!$A$48,'Budget to Actual Form'!O33*(100%),O33=0,"")} | U33: =IFERROR(Q33-S33,"") | W33: =IFERROR(IF(Q33="","-",ROUND(U33/Q33,2)),"") -> -
A34: Fringe Benefits | G34: {=_xlfn.IFS(E34="","",'Budget to Actual Form'!$O$4='Budget to Actual Instructions'!$A$45,'Budget to Actual Form'!E34*(25%),'Budget to Actual Form'!$O$4='Budget to Actual Instructions'!$A$46,'Budget to Actual Form'!E34*(50%),'Budget to Actual Form'!$O$4='Budget to Actual Instructions'!$A$47,'Budget to Actual Form'!E34*(75%),'Budget to Actual Form'!$O$4='Budget to Actual Instructions'!$A$48,'Budget to Actual Form'!E34*(100%))} | K34: =IFERROR(G34-I34,"") | M34: =IFERROR(IF(G34="","-",ROUND(K34/G34,2)),"") -> - | Q34: {=_xlfn.IFS(O34="","",'Budget to Actual Form'!$O$4='Budget to Actual Instructions'!$A$45,'Budget to Actual Form'!O34*(25%),'Budget to Actual Form'!$O$4='Budget to Actual Instructions'!$A$46,'Budget to Actual Form'!O34*(50%),'Budget to Actual Form'!$O$4='Budget to Actual Instructions'!$A$47,'Budget to Actual Form'!O34*(75%),'Budget to Actual Form'!$O$4='Budget to Actual Instructions'!$A$48,'Budget to Actual Form'!O34*(100%),O34=0,"")} | U34: =IFERROR(Q34-S34,"") | W34: =IFERROR(IF(Q34="","-",ROUND(U34/Q34,2)),"") -> -
A35: Contractual Services | G35: {=_xlfn.IFS(E35="","",'Budget to Actual Form'!$O$4='Budget to Actual Instructions'!$A$45,'Budget to Actual Form'!E35*(25%),'Budget to Actual Form'!$O$4='Budget to Actual Instructions'!$A$46,'Budget to Actual Form'!E35*(50%),'Budget to Actual Form'!$O$4='Budget to Actual Instructions'!$A$47,'Budget to Actual Form'!E35*(75%),'Budget to Actual Form'!$O$4='Budget to Actual Instructions'!$A$48,'Budget to Actual Form'!E35*(100%))} | K35: =IFERROR(G35-I35,"") | M35: =IFERROR(IF(G35="","-",ROUND(K35/G35,2)),"") -> - | Q35: {=_xlfn.IFS(O35="","",'Budget to Actual Form'!$O$4='Budget to Actual Instructions'!$A$45,'Budget to Actual Form'!O35*(25%),'Budget to Actual Form'!$O$4='Budget to Actual Instructions'!$A$46,'Budget to Actual Form'!O35*(50%),'Budget to Actual Form'!$O$4='Budget to Actual Instructions'!$A$47,'Budget to Actual Form'!O35*(75%),'Budget to Actual Form'!$O$4='Budget to Actual Instructions'!$A$48,'Budget to Actual Form'!O35*(100%),O35=0,"")} | U35: =IFERROR(Q35-S35,"") | W35: =IFERROR(IF(Q35="","-",ROUND(U35/Q35,2)),"") -> -
A36: Occupancy Costs | G36: {=_xlfn.IFS(E36="","",'Budget to Actual Form'!$O$4='Budget to Actual Instructions'!$A$45,'Budget to Actual Form'!E36*(25%),'Budget to Actual Form'!$O$4='Budget to Actual Instructions'!$A$46,'Budget to Actual Form'!E36*(50%),'Budget to Actual Form'!$O$4='Budget to Actual Instructions'!$A$47,'Budget to Actual Form'!E36*(75%),'Budget to Actual Form'!$O$4='Budget to Actual Instructions'!$A$48,'Budget to Actual Form'!E36*(100%))} | K36: =IFERROR(G36-I36,"") | M36: =IFERROR(IF(G36="","-",ROUND(K36/G36,2)),"") -> - | Q36: {=_xlfn.IFS(O36="","",'Budget to Actual Form'!$O$4='Budget to Actual Instructions'!$A$45,'Budget to Actual Form'!O36*(25%),'Budget to Actual Form'!$O$4='Budget to Actual Instructions'!$A$46,'Budget to Actual Form'!O36*(50%),'Budget to Actual Form'!$O$4='Budget to Actual Instructions'!$A$47,'Budget to Actual Form'!O36*(75%),'Budget to Actual Form'!$O$4='Budget to Actual Instructions'!$A$48,'Budget to Actual Form'!O36*(100%),O36=0,"")} | U36: =IFERROR(Q36-S36,"") | W36: =IFERROR(IF(Q36="","-",ROUND(U36/Q36,2)),"") -> -
A37: Other Operating Costs | G37: {=_xlfn.IFS(E37="","",'Budget to Actual Form'!$O$4='Budget to Actual Instructions'!$A$45,'Budget to Actual Form'!E37*(25%),'Budget to Actual Form'!$O$4='Budget to Actual Instructions'!$A$46,'Budget to Actual Form'!E37*(50%),'Budget to Actual Form'!$O$4='Budget to Actual Instructions'!$A$47,'Budget to Actual Form'!E37*(75%),'Budget to Actual Form'!$O$4='Budget to Actual Instructions'!$A$48,'Budget to Actual Form'!E37*(100%))} | K37: =IFERROR(G37-I37,"") | M37: =IFERROR(IF(G37="","-",ROUND(K37/G37,2)),"") -> - | Q37: {=_xlfn.IFS(O37="","",'Budget to Actual Form'!$O$4='Budget to Actual Instructions'!$A$45,'Budget to Actual Form'!O37*(25%),'Budget to Actual Form'!$O$4='Budget to Actual Instructions'!$A$46,'Budget to Actual Form'!O37*(50%),'Budget to Actual Form'!$O$4='Budget to Actual Instructions'!$A$47,'Budget to Actual Form'!O37*(75%),'Budget to Actual Form'!$O$4='Budget to Actual Instructions'!$A$48,'Budget to Actual Form'!O37*(100%),O37=0,"")} | U37: =IFERROR(Q37-S37,"") | W37: =IFERROR(IF(Q37="","-",ROUND(U37/Q37,2)),"") -> -
M38: =IF(G38="","-",ROUND(K38/G38,2)) -> - | W38: =IF(Q38="","-",ROUND(U38/Q38,2)) -> -
A39: Total Direct Expenditures | E39: =SUM(E33:E37) -> 0 | G39: =SUM(G33:G38) -> 0 | I39: =SUM(I33:I38) -> 0 | K39: =SUM(K33:K37) -> 0 | M39: =IFERROR(IF(G39=0,"-",ROUND(K39/G39,2)),"") -> - | O39: =SUM(O33:O37) -> 0 | Q39: =SUM(Q33:Q38) -> 0 | S39: =SUM(S33:S38) -> 0 | U39: =SUM(U33:U37) -> 0 | W39: =IFERROR(IF(Q39=0,"-",ROUND(U39/Q39,2)),"") -> -
M40: =IF(G40="","-",ROUND(K40/G40,2)) -> - | W40: =IF(Q40="","-",ROUND(U40/Q40,2)) -> -
A41: Administrative/Indirect Cost | G41: {=_xlfn.IFS(E41="","",'Budget to Actual Form'!$O$4='Budget to Actual Instructions'!$A$45,'Budget to Actual Form'!E41*(25%),'Budget to Actual Form'!$O$4='Budget to Actual Instructions'!$A$46,'Budget to Actual Form'!E41*(50%),'Budget to Actual Form'!$O$4='Budget to Actual Instructions'!$A$47,'Budget to Actual Form'!E41*(75%),'Budget to Actual Form'!$O$4='Budget to Actual Instructions'!$A$48,'Budget to Actual Form'!E41*(100%))} | K41: =IFERROR(G41-I41,"") | M41: =IFERROR(IF(G41="","-",ROUND(K41/G41,2)),"") -> - | Q41: {=_xlfn.IFS(O41="","",'Budget to Actual Form'!$O$4='Budget to Actual Instructions'!$A$45,'Budget to Actual Form'!O41*(25%),'Budget to Actual Form'!$O$4='Budget to Actual Instructions'!$A$46,'Budget to Actual Form'!O41*(50%),'Budget to Actual Form'!$O$4='Budget to Actual Instructions'!$A$47,'Budget to Actual Form'!O41*(75%),'Budget to Actual Form'!$O$4='Budget to Actual Instructions'!$A$48,'Budget to Actual Form'!O41*(100%),O41=0,"")} | U41: =IFERROR(Q41-S41,"") | W41: =IFERROR(IF(Q41="","-",ROUND(U41/Q41,2)),"") -> -
A43: TOTAL EXPENDITURES | E43: =E39+E41 -> 0 | G43: =IFERROR(G39+G41,"") | I43: =I39+I41 -> 0 | K43: =IFERROR(K39+K41,"") | M43: =IFERROR((IF(G43=0,"-",ROUND(K43/G43,2))),"") | O43: =O39+O41 -> 0 | Q43: =IFERROR(Q39+Q41,"") | S43: =IFERROR(S39+S41,"") -> 0 | U43: =IFERROR(U39+U41,"") | W43: =IFERROR(IF(Q43=0,"-",ROUND(U43/Q43,2)),"")
A45: EXCESS (DEFICIT) | E45: =E29-E43 -> 0 | G45: =IFERROR(G29-G43,0) -> 0 | I45: =I29-I43 -> 0 | K45: =IFERROR(K29+K43,0) -> 0 | M45: =IF(G45=0,"-",ROUND(K45/G45,2)) -> - | O45: =O29-O43 -> 0 | Q45: =IFERROR(Q29-Q43,"") | S45: =IFERROR(S29-S43,"") -> 0 | U45: =IFERROR(U29+U43,"") | W45: =IFERROR(IF(Q45=0,"-",ROUND(U45/Q45,2)),"")
A47: IN-KIND CONTRIBUTIONS
A48: SOURCE | E48: DESCRIPTION | K48: AMOUNT
K49: $
...

Sheet Budget to Actual Instructions
A1: INSTRUCTIONS FOR PROGRAM BUDGET TO ACTUAL REPORT
A3: THIS REPORT MUST BE COMPLETED AND SUBMITTED TO THE CHILDREN'S BOARD FISCAL REPRESENTATIVE
A4: ASSIGNED TO YOUR PROGRAM NO LATER THAN 30 DAYS AFTER THE END OF EACH QUARTER
A6: For the year to date period ending Dec. 31 – Due Feb. 1. | D6: For the year to date period ending Mar. 31 – Due May 1.
A7: For the year to date period ending Jun. 30 – Due Aug. 1. | D7: For the year to date period ending Sep. 30 – Due Nov. 15.
A9: Fill in the following information at the top of the form highlighted in GREEN:
A11: 1. Agency name | C11: 5. Total Program Budget
A12: 2. Name of program | C12: 6. Total CBHC Budget
A13: 3. Select Quarter Reporting from Dropdown Box | C13: 7. Name of the individual who prepared the report
A14: 4. Date the report was submitted | C14: 8. The reporting period of the report (cumulative)
A16: Fill in the Revenue and Expenditures in columns 1, 2, 3, 6, 7 and 8 (rounded to the nearest whole dollar amount)
A18: 1. Column 1 is to be filled in using the Total Program Budget found in the contract.
A19: 2. Column 2 is to be filled in using the portion of the Total Program Budget relating to the period of time of the report. The Total
A20: Program Budget in the contract should be used.
A21: 3. Column 3 is to be filled in with the year to date actual program revenue and expenses.
A22: 4. Column 4 calculates the year to date dollar variance between the budget and the actual program revenue and expenses.
A23: 5. Column 5 calculates the year to date percent variance between the budget and the actual program revenue and expenses.
A24: 6. Column 6 is to be filled in using the Total Amount Requested from CBHC found in the contract.
A25: 7. Column 7 is to be filled in using the portion of the Amount Requested from CBHC relating to the period of time of the report.
A26: The Amount Requested from CBHC in the contract should be used. Amounts in this column must reflect all budget
A27: modifications authorized by the Children's Board.
A28: 8. Column 8 is to be filled in with the actual year to date expenses related to the Children's Board's budget.
... A41: If the variance is (over) / under 10% in any line item please use the variance report section to explain the reason for the variance.
A44: SELECT REPORTING QUARTER | B44: (SELECT QUARTER)
A45: 1 | B45: October 1 - December 31
A46: 2 | B46: October 1 - March 31
A47: 3 | B47: October 1 - June 30
A48: 4 | B48: October 1 - September 30
